BEGIN:VCALENDAR
VERSION:2.0
PRODID:-//Automotive Recyclers Association - ECPv6.15.20//NONSGML v1.0//EN
CALSCALE:GREGORIAN
METHOD:PUBLISH
X-WR-CALNAME:Automotive Recyclers Association
X-ORIGINAL-URL:https://www.a-r-a.org
X-WR-CALDESC:Events for Automotive Recyclers Association
REFRESH-INTERVAL;VALUE=DURATION:PT1H
X-Robots-Tag:noindex
X-PUBLISHED-TTL:PT1H
BEGIN:VTIMEZONE
TZID:America/New_York
BEGIN:DAYLIGHT
TZOFFSETFROM:-0500
TZOFFSETTO:-0400
TZNAME:EDT
DTSTART:20250309T070000
END:DAYLIGHT
BEGIN:STANDARD
TZOFFSETFROM:-0400
TZOFFSETTO:-0500
TZNAME:EST
DTSTART:20251102T060000
END:STANDARD
BEGIN:DAYLIGHT
TZOFFSETFROM:-0500
TZOFFSETTO:-0400
TZNAME:EDT
DTSTART:20260308T070000
END:DAYLIGHT
BEGIN:STANDARD
TZOFFSETFROM:-0400
TZOFFSETTO:-0500
TZNAME:EST
DTSTART:20261101T060000
END:STANDARD
BEGIN:DAYLIGHT
TZOFFSETFROM:-0500
TZOFFSETTO:-0400
TZNAME:EDT
DTSTART:20270314T070000
END:DAYLIGHT
BEGIN:STANDARD
TZOFFSETFROM:-0400
TZOFFSETTO:-0500
TZNAME:EST
DTSTART:20271107T060000
END:STANDARD
END:VTIMEZONE
BEGIN:VEVENT
DTSTART;TZID=America/New_York:20260419T080000
DTEND;TZID=America/New_York:20260421T170000
DTSTAMP:20260421T105820
CREATED:20251112T202553Z
LAST-MODIFIED:20260113T164210Z
UID:2171-1776585600-1776790800@www.a-r-a.org
SUMMARY:BHPH United
DESCRIPTION:ANNOUNCING 3 CONFERENCES FOR THE PRICE OF 1\n \nBHPH UNITED SUMMIT 2026 REGISTRATION \nBHPH United REGISTRATION PAGE \nThe 2026 Summit offers an abundance of helpful educational sessions\, presentations\, and panel discussions from top BHPH dealers and industry professionals. \nTopics discussed include http://BHPS United AGENDA sales\, Marketing\, Underwriting\, Collections\, Inventory\, Service & Recon\, Human Resources\, and many more. Head over to our agenda to get an inside look of what’s in store. \nBHPH United AGENDA PAGE \n \n\nWelcome to Caesars Palace Las Vegas!\n\n\nWe are now accepting hotel reservations for our upcoming event. Through this website you can book\, modify or cancel your hotel reservations. We look forward to seeing you! \n\n\nPlease note that upon booking your reservation\, your credit card will be charged a deposit equal to the first night’s room and tax. To avoid forfeiture of deposit\, please ensure all changes and cancellations are made at least 72 hours prior to scheduled arrival date. You may be charged a nightly resort fee which will be added into your total on the final summary page.  Please be sure to read the hotel policies for more information specific to your event. \n\n\n\nRESERVE MY ROOM \nThe average nightly rate and individual nightly rates presented on the website will include Room Rate and Resort Fee. \n\n\n\n\n\n\n\n\n\n\n\n\n 
URL:https://www.a-r-a.org/event/bhph-united/
LOCATION:Caesars Palace Las Vegas\, 3570 Las Vegas Blvd South\, Las Vegas\, NV\, 89109\, United States
END:VEVENT
END:VCALENDAR