BEGIN:VCALENDAR
VERSION:2.0
PRODID:-//Automotive Recyclers Association - ECPv6.15.20//NONSGML v1.0//EN
CALSCALE:GREGORIAN
METHOD:PUBLISH
X-WR-CALNAME:Automotive Recyclers Association
X-ORIGINAL-URL:https://www.a-r-a.org
X-WR-CALDESC:Events for Automotive Recyclers Association
REFRESH-INTERVAL;VALUE=DURATION:PT1H
X-Robots-Tag:noindex
X-PUBLISHED-TTL:PT1H
BEGIN:VTIMEZONE
TZID:America/New_York
BEGIN:DAYLIGHT
TZOFFSETFROM:-0500
TZOFFSETTO:-0400
TZNAME:EDT
DTSTART:20240310T070000
END:DAYLIGHT
BEGIN:STANDARD
TZOFFSETFROM:-0400
TZOFFSETTO:-0500
TZNAME:EST
DTSTART:20241103T060000
END:STANDARD
BEGIN:DAYLIGHT
TZOFFSETFROM:-0500
TZOFFSETTO:-0400
TZNAME:EDT
DTSTART:20250309T070000
END:DAYLIGHT
BEGIN:STANDARD
TZOFFSETFROM:-0400
TZOFFSETTO:-0500
TZNAME:EST
DTSTART:20251102T060000
END:STANDARD
BEGIN:DAYLIGHT
TZOFFSETFROM:-0500
TZOFFSETTO:-0400
TZNAME:EDT
DTSTART:20260308T070000
END:DAYLIGHT
BEGIN:STANDARD
TZOFFSETFROM:-0400
TZOFFSETTO:-0500
TZNAME:EST
DTSTART:20261101T060000
END:STANDARD
END:VTIMEZONE
BEGIN:VEVENT
DTSTART;TZID=America/New_York:20250717T073000
DTEND;TZID=America/New_York:20250719T223000
DTSTAMP:20260424T090552
CREATED:20250529T063519Z
LAST-MODIFIED:20250722T202934Z
UID:878-1752737400-1752964200@www.a-r-a.org
SUMMARY:2025 FADRA 50th Anniversary Convention & Trade Show
DESCRIPTION:https://fadra.memberclicks.net/fadra-convention-and-trade-show-2025 \nHalf a century of Florida auto recycling! How time has flown; how business has changed. FADRA 2025 brings together the historic and the new\, veteran owners with new faces establishing themselves in our dynamic industry. How can you get better at managing your auto recycling business? Where can you find lots of other people who know your struggles and have good ideas to share? The FADRA Convention! Don’t miss a golden opportunity to learn best practices and expand your business network. \n \nSheraton Sand Key Resort \nReservation Dates: July 17-20\, 2025 \nFADRA Room Rate: $191 per night \nReservation Cut-off Date: June 17\, 2025 \nPhone: 727-595-1611 \n \nYou will find the information for your online reservation link below. If you have questions or need help with the link\, please do not hesitate to ask. We appreciate your business and look forward to a successful event. \nBook your group rate for FADRA 2025 Annual Conference \nIf you wish to book a reservation outside of the July 17-20 dates or if you have any questions regarding your reservation\, please contact the hotel directly at 727-595-1611 and ask for In-House Reservations. Be sure to mention you are with FADRA. \n\n\n\n\n\n\n\n\n\n\nWELCOME EVENT: STARLIGHT DINNER YACHT CRUISE \nCruise in comfort as attendees get together for an evening of great food\, drink\, and views of beautiful Tampa Bay on a luxury yacht\, the StarLite. A family-owned company has been talking guests out on the water in style since 1986. Their dining service includes a full\, restaurant-style menu featuring continental cuisine prepared fresh on board. Entertainment is a mix of live selections and a wide variety of recorded songs to satisfy any musical request. Full bar and your own server ensure your enjoyment. \n \n \n\n\n\n\n\n\n\n\n\nDON’T STOP BELIEVIN’ 50th ANNIVERSARY CELEBRATION \nNostalgia is in the air as we celebrate 50 years of our association. The closing party will conclude with a concert by Majesty of Rock. They have Performed together for more than a decade\, and the group is one of the most sought-after Journey and Styx tribute bands in the country. Not only does the lead singer\, John D’Agostino\, capture Steve Perry’s iconic vocals\, but he also nails the vocal essence of Dennis DeYoung and Tommy Shaw from Styx. Majesty has perfected the mix of hard rock guitar\, acoustic guitar\, synthesizers and acoustic piano. With precise harmonies\, driving music\, and powerful stage presence\, you will be enthralled by their performance. \n \n\n  \n 
URL:https://www.a-r-a.org/event/fadra-convention-and-trade-show/
LOCATION:Clearwater Beach Sheraton Resort on Sand Key\, FL\, 1160 Gulf Blvd.\, Clearwater Beach\, FL\, 33767\, United States
ORGANIZER;CN="FADRA - Florida Auto Dismantlers & Recyclers Association":MAILTO:kim@odellgroupmgmt.com bobby@fadra.org
END:VEVENT
BEGIN:VEVENT
DTSTART;TZID=America/New_York:20250620T170000
DTEND;TZID=America/New_York:20250621T210000
DTSTAMP:20260424T090552
CREATED:20250529T063339Z
LAST-MODIFIED:20250529T063339Z
UID:876-1750438800-1750539600@www.a-r-a.org
SUMMARY:2025 ARAAC Meeting - Automotive Recyclers Association of Canada
DESCRIPTION:2025 ARAAC Meeting\nBest Western Glengarry\n150 Willow Street\, Truro\, NS B2N 4Z6\n(902) 893-4311\nJune 20-21\, 2025 \nDraft Agenda\nJune 20 \n5:00 pm Board Meeting \nJune 21 \n8:30 am Tabletop Trade Show Open \n9:00 am. Annual General Meeting \n10:00 am. Morning Presentations and Panels \nnoon Lunch \n1:00 pm. Afternoon Presentations and Panels \n4:00 pm. Yard tours and dinner at Maritime Auto Parts \n  \nRegistration information for both the Meeting\, Trade Show and Sponsorship to follow. \nTo book your room at the Glengarry ($169 includes complimentary breakfast and parking) – https://www.bestwestern.com/en_US/book/hotel-rooms.65003.html?groupId=G31DM3Z2 or (902) 893-4311. \n  \n  \nSpeakers\, topics\, panels and training to follow. \n  \nFollow for regular updates- https://araac.ca/events/2025-araac-meeting/
URL:https://www.a-r-a.org/event/2025-araac-meeting-automotive-recyclers-association-of-canada/
LOCATION:NE
END:VEVENT
BEGIN:VEVENT
DTSTART;TZID=America/New_York:20250606T080000
DTEND;TZID=America/New_York:20250608T080000
DTSTAMP:20260424T090552
CREATED:20250529T063119Z
LAST-MODIFIED:20250529T063204Z
UID:872-1749196800-1749369600@www.a-r-a.org
SUMMARY:PARTS Summit & Expo
DESCRIPTION:PARTS invites you to join fellow recyclers from Pennsylvania and surrounding states for PARTners for the Future of Auto Recycling Summit & Expo. There will be a strong lineup of speakers touching on issues relevant to today’s auto recycler. The Expo will include top vendors sharing new products\, services and technology and to help you uncover new uses for existing products. It’s a great time to PARTner with fellow recyclers and industry vendors so make plans to attend.
URL:https://www.a-r-a.org/event/parts-summit-expo/
LOCATION:Seven Springs Mountain Resort\, PA\, United States
END:VEVENT
END:VCALENDAR