BEGIN:VCALENDAR
VERSION:2.0
PRODID:-//Automotive Recyclers Association - ECPv6.15.20//NONSGML v1.0//EN
CALSCALE:GREGORIAN
METHOD:PUBLISH
X-WR-CALNAME:Automotive Recyclers Association
X-ORIGINAL-URL:https://www.a-r-a.org
X-WR-CALDESC:Events for Automotive Recyclers Association
REFRESH-INTERVAL;VALUE=DURATION:PT1H
X-Robots-Tag:noindex
X-PUBLISHED-TTL:PT1H
BEGIN:VTIMEZONE
TZID:America/New_York
BEGIN:DAYLIGHT
TZOFFSETFROM:-0500
TZOFFSETTO:-0400
TZNAME:EDT
DTSTART:20250309T070000
END:DAYLIGHT
BEGIN:STANDARD
TZOFFSETFROM:-0400
TZOFFSETTO:-0500
TZNAME:EST
DTSTART:20251102T060000
END:STANDARD
BEGIN:DAYLIGHT
TZOFFSETFROM:-0500
TZOFFSETTO:-0400
TZNAME:EDT
DTSTART:20260308T070000
END:DAYLIGHT
BEGIN:STANDARD
TZOFFSETFROM:-0400
TZOFFSETTO:-0500
TZNAME:EST
DTSTART:20261101T060000
END:STANDARD
BEGIN:DAYLIGHT
TZOFFSETFROM:-0500
TZOFFSETTO:-0400
TZNAME:EDT
DTSTART:20270314T070000
END:DAYLIGHT
BEGIN:STANDARD
TZOFFSETFROM:-0400
TZOFFSETTO:-0500
TZNAME:EST
DTSTART:20271107T060000
END:STANDARD
END:VTIMEZONE
BEGIN:VEVENT
DTSTART;TZID=America/New_York:20260929T080000
DTEND;TZID=America/New_York:20261001T170000
DTSTAMP:20260423T193952
CREATED:20260227T202513Z
LAST-MODIFIED:20260227T202513Z
UID:2484-1790668800-1790874000@www.a-r-a.org
SUMMARY:CIECA CONNEX 2026
DESCRIPTION:Why attend?\n\n\n\nCIECA’s 17th annual conference\, CONNEX 2026\, will be held Sept. 29-Oct. 1 at the Hilton Palacio del Rio in San Antonio\, Texas. All industry stakeholders\, including CIECA members and non-members\, are invited to attend. \nA highlight of the event will be a tour of the Toyota Texas manufacturing facility and Experience Center. \nTours of the Toyota Texas Experience Center have limited availability and will require separate registration at a later date. \nPlease join us for a day and a half of presentations and discussions on emerging technologies\, their impact on the collision industry\, and how we are preparing for a rapidly-changing business environment. Perhaps\, more than ever\, the industry faces new challenges and opportunities created by the software-defined vehicle and the impacts it will have for all segments of the industry. It is critical for CIECA and its members to be positioned to meet these challenges and leverage the opportunities. \nThe CIECA CONNEX conference is an excellent opportunity to meet and network with leaders from some of the most influential companies in the industry. \nAgenda: \nTuesday\, Sept. 29: CIECA Open Board Meeting\, complimentary tour of the Toyota Texas manufacturing facility and Experience Center (Group 1 – 10 am / Group 2 – 12 pm)\, evening reception for all attendees \nWednesday\, Sept. 30: Full day of presentations\, NABC Recycled Rides® vehicle gifting and CIECA reception \nThursday\, Oct. 1: Half day of presentations\, lunch and complimentary tour of the Toyota Texas manufacturing facility and Experience Center (Group 3 – 12:30 pm) \n\n\n\n\n\n\n\n\nHotel Room Block \nHilton Palacio del Rio (San Antonio\, TX) \n\nClick here to take advantage of the CIECA Room Block pricing. \n\nReservations
URL:https://www.a-r-a.org/event/cieca-connex-2026/
LOCATION:Hilton Palacio del Rio\, 200 South Alamo Street\, San Antonio\, TX\, 78205\, United States
ORGANIZER;CN="Ceica":MAILTO:operations@cieca.com
END:VEVENT
BEGIN:VEVENT
DTSTART;TZID=America/New_York:20261014T080000
DTEND;TZID=America/New_York:20261017T170000
DTSTAMP:20260423T193952
CREATED:20251018T133750Z
LAST-MODIFIED:20251018T143937Z
UID:2050-1791964800-1792256400@www.a-r-a.org
SUMMARY:83rd Annual Convention & Exposition
DESCRIPTION:Details for the 83rd Annual Convention & Expo Coming Soon!
URL:https://www.a-r-a.org/event/83rd-annual-convention-exposition/
LOCATION:Cobb Galleria Centre\, Two Galleria Parkway\, Atlanta\, GA\, 30339\, United States
ORGANIZER;CN="Automotive Recyclers Association (ARA)":MAILTO:staff@a-r-a.org
END:VEVENT
BEGIN:VEVENT
DTSTART;TZID=America/New_York:20261105T080000
DTEND;TZID=America/New_York:20261107T170000
DTSTAMP:20260423T193952
CREATED:20251106T180831Z
LAST-MODIFIED:20251106T180914Z
UID:2161-1793865600-1794070800@www.a-r-a.org
SUMMARY:ARNE
DESCRIPTION:
URL:https://www.a-r-a.org/event/arne/
LOCATION:Catskills New York Casino\, 888 Resorts World Drive\, Monticello\, NY\, 12701\, United States
END:VEVENT
END:VCALENDAR