BEGIN:VCALENDAR
VERSION:2.0
PRODID:-//Automotive Recyclers Association - ECPv6.15.20//NONSGML v1.0//EN
CALSCALE:GREGORIAN
METHOD:PUBLISH
X-WR-CALNAME:Automotive Recyclers Association
X-ORIGINAL-URL:https://www.a-r-a.org
X-WR-CALDESC:Events for Automotive Recyclers Association
REFRESH-INTERVAL;VALUE=DURATION:PT1H
X-Robots-Tag:noindex
X-PUBLISHED-TTL:PT1H
BEGIN:VTIMEZONE
TZID:America/New_York
BEGIN:DAYLIGHT
TZOFFSETFROM:-0500
TZOFFSETTO:-0400
TZNAME:EDT
DTSTART:20240310T070000
END:DAYLIGHT
BEGIN:STANDARD
TZOFFSETFROM:-0400
TZOFFSETTO:-0500
TZNAME:EST
DTSTART:20241103T060000
END:STANDARD
BEGIN:DAYLIGHT
TZOFFSETFROM:-0500
TZOFFSETTO:-0400
TZNAME:EDT
DTSTART:20250309T070000
END:DAYLIGHT
BEGIN:STANDARD
TZOFFSETFROM:-0400
TZOFFSETTO:-0500
TZNAME:EST
DTSTART:20251102T060000
END:STANDARD
BEGIN:DAYLIGHT
TZOFFSETFROM:-0500
TZOFFSETTO:-0400
TZNAME:EDT
DTSTART:20260308T070000
END:DAYLIGHT
BEGIN:STANDARD
TZOFFSETFROM:-0400
TZOFFSETTO:-0500
TZNAME:EST
DTSTART:20261101T060000
END:STANDARD
BEGIN:DAYLIGHT
TZOFFSETFROM:-0500
TZOFFSETTO:-0400
TZNAME:EDT
DTSTART:20270314T070000
END:DAYLIGHT
BEGIN:STANDARD
TZOFFSETFROM:-0400
TZOFFSETTO:-0500
TZNAME:EST
DTSTART:20271107T060000
END:STANDARD
END:VTIMEZONE
BEGIN:VEVENT
DTSTART;TZID=America/New_York:20260209T110000
DTEND;TZID=America/New_York:20260212T170000
DTSTAMP:20260423T233505
CREATED:20251105T200622Z
LAST-MODIFIED:20251105T201041Z
UID:2107-1770634800-1770915600@www.a-r-a.org
SUMMARY:NAATBatt 2026 Charging Innovation
DESCRIPTION:Seventeenth ANNUAL MEETING & CONFERENCE \n\nNAATBatt 2026\nCharging Innovation\n\n\n\n\n\n\n\nFebruary 9-12\, 2026\n\n\n\n\n\n\n\n\n\n\n\n\nTucson\, Arizona\n\n\n\n\n\n\n\n\n\nRegister Now\n\n\n\n\n\n\nABOUT THE CONFERENCE \n\nNAATBatt 2026\n\n\n\n\nNAATBatt International\, the trade association representing the advanced battery industry in North America\, will host its 17th Annual Meeting & Conference at the JW Marriott Tucson Starr Pass Resort & Spa in Tucson\, Arizona\, from February 10–12\, 2026. \nNAATBatt’s Annual Meeting is the premier gathering place for senior executives\, thought leaders\, and innovators shaping the future of advanced battery technology. Attendees will explore emerging trends in energy storage\, electric transportation\, and manufacturing while connecting with key decision-makers driving the industry forward.
URL:https://www.a-r-a.org/event/naatbatt-2026-charging-innovation/
LOCATION:JW Marriott Tucson Starr Pass Resort & Spa\, 3800 W. Starr Pass Boulevard\, Tucson\, AZ\, 85745\, United States
ORGANIZER;CN="NAATBatt International":MAILTO:info@naatbatt.org
END:VEVENT
BEGIN:VEVENT
DTSTART;TZID=America/New_York:20260120T130000
DTEND;TZID=America/New_York:20260123T120000
DTSTAMP:20260423T233505
CREATED:20251105T195308Z
LAST-MODIFIED:20251105T195308Z
UID:2101-1768914000-1769169600@www.a-r-a.org
SUMMARY:Collision Industry Conference I CIC
DESCRIPTION:JANUARY 21: (WEDNESDAY)\nHilton Palm Springs Resort\nPalm Springs\, California\n \nHotel Reservations: Booking link Here \n\n\n\n\nPre-Registration Closes January 14 \nMeeting Times: \n\nRegistration: 7:00am\nMeeting: 8:00am – 5:00pm\nReception: 6:00pm\n\nSee below for related meetings. \n\n\n\n\n\n\n\n\n\n\n\n\n\n\n\n\n\nREGISTRATION LINKS:\n\n\n\n\nREGISTRATION will go live just after November Meeting \n\n\n\n\n\n\n\n\nRELATED MEETINGS\nCheck back for updates\, this list may change! \nMONDAY\, JAN 20 \n\n1:00 – 5:00p – CIF Board of Trustees Annual Meeting (Open)\nSecond Annual NABC Gala and 30th Anniversary Celebration (offsite\, Renaissance Esmeralda Indian Wells)\n\nTUESDAY\, JAN 21 \n\n2:00 – 5:00p – SCRS Board of Directors Open Meeting – Room: Tapestry\n6:30 – 9:30p – CIF Cocktails for a Cause Annual Charity Fundraiser (offsite)\n\nWEDNESDAY\, JAN 22 \n\n6:30a – Collision Industry Prayer Meeting\n\nTHURSDAY\, JAN 23 \n\n8:00a – OEM Collision Repair Roundtable *Invite Only\n9:00a – 12:00p – CIECA Board of Directors Meeting\n\nRELATED MEETINGS DISCLAIMER – the Collision Industry Conference has no control over the above related meetings\, their content\, conduct or protocols. Should you have any concern over content or protocols\, please contact the organization directly.
URL:https://www.a-r-a.org/event/collision-industry-conference-i-cic-2/
LOCATION:Hilton Palm Springs Resort\, 400 East Tahquitz Canyon Way\, Palm Springs\, CA\, 92262\, United States
ORGANIZER;CN="Collision Industry Conference (CIC)":MAILTO:info@ciclink.com
END:VEVENT
BEGIN:VEVENT
DTSTART;TZID=America/New_York:20251104T090000
DTEND;TZID=America/New_York:20251107T170000
DTSTAMP:20260423T233505
CREATED:20250702T153449Z
LAST-MODIFIED:20250903T201648Z
UID:1526-1762246800-1762534800@www.a-r-a.org
SUMMARY:Collision Industry Conference (CIC)
DESCRIPTION:NOVEMBER 4: (TUESDAY)\nResorts World Las Vegas**\nLas Vegas\, Nevada\n \nHotel Reservations: through SEMA Show \n\n\n\n\nPre-Registration Closes October 29 \nMeeting Times: \n\nRegistration: 7:00am\nMeeting: 8:00am – 5:00pm\nReception: 6:00pm\nCollision Industry Red Carpet Awards: 7:30pm\n\nSee below for related meetings. \n**Note\, this is a hotel change from prior meetings \n\n\n\n\n\n\n\n\n\n\n\n\n\n\n\n\n\nREGISTRATION LINKS:\n\n\n\n\n\n\nGold Pin Registration\n\n\nAnnual fee ($415) \n\n\n\n\nRegular Registration\n\n\nRegular Registration Fee $125 \n\n\n\n\nSchool Instructor\n\n\nSchool Instructor Fee $60 \n\n\n\n\n\n\n\n\nRELATED MEETINGS\nCheck back for updates\, this list may change! \nTUESDAY\, NOV 4 \n\n6:30a – Collision Industry Prayer Meeting – Room: Rose 12\n9:00a – 5p SEMA Show (LVCC)\n9:30a – 4p Repairer Driven Education (LVCC)\n\nWEDNESDAY\, NOV 5 \n\n9:00a – 5p SEMA Show (LVCC)\n9:30a – 4p Repairer Driven Education (LVCC)\n\nTHURSDAY\, NOV 6 \n\n9:00a – 5p SEMA Show (LVCC)\n9:30a – 4:30p Repairer Driven Education (LVCC)\n12:30p – 4:30p – OEM Summit (Repairer Driven Education (LVCC))\n9:00p – SCRS After Party\, Verona Suite **Registration Required\n\nFRIDAY\, NOV 7 \n\n9a – 4p – SEMA Show (LVCC)\n9:30a – 5p Repairer Driven Education (LVCC)\n\nRELATED MEETINGS DISCLAIMER – the Collision Industry Conference has no control over the above related meetings\, their content\, conduct or protocols. Should you have any concern over content or protocols\, please contact the organization directly.
URL:https://www.a-r-a.org/event/the-2025-sema-show/
LOCATION:Resorts World Las Vegas\, 3000 South Las Vegas Boulevard\, Las Vegas\, NV\, 89109\, United States
ORGANIZER;CN="Collision Industry Conference (CIC)":MAILTO:info@ciclink.com
END:VEVENT
BEGIN:VEVENT
DTSTART;TZID=America/New_York:20251016T083000
DTEND;TZID=America/New_York:20251018T193000
DTSTAMP:20260423T233505
CREATED:20250701T185323Z
LAST-MODIFIED:20250701T185323Z
UID:1496-1760603400-1760815800@www.a-r-a.org
SUMMARY:82nd ANNUAL ARA CONVENTION & EXPO
DESCRIPTION:This is THE Event You Cannot Afford to Miss\nARA’s 82nd Annual Convention & Exposition\nYour competitive advantage wrapped into one powerful experience. \n\n\nWhy You Need to Be There\n\n\n\nDiscover breakthrough products and services that could revolutionize your operations\nAccess cutting-edge educational sessions led by industry pioneers\nBuild invaluable connections with the professionals shaping our industry’s future\n\n\nYour Success Starts with the Right Knowledge\nOur handpicked speakers are dynamic industry leaders and recognized experts. These sessions aren’t generic\nThey’re focused\, actionable insights that directly impact your profitability and efficiency.\n\n\nSmart Strategy = Big ROI\nMaximize your investment: Bring your whole team.\nWhen everyone attends different sessions\, you return with a comprehensive toolkit of strategies to boost your bottom line immediately.\n\nGet Your GAME ON – We’re WINNING TOGETHER!\nAttendee Registration Link\nExhibitor Registration Link
URL:https://www.a-r-a.org/event/82nd-annual-ara-convention-expo/
LOCATION:Birmingham Jefferson Convention Complex\, 2100 Richard Arrington\, Jr. Blvd. N.\, Birmingham\, AL\, 35203\, United States
ORGANIZER;CN="Automotive Recyclers Association (ARA)":MAILTO:staff@a-r-a.org
END:VEVENT
BEGIN:VEVENT
DTSTART;VALUE=DATE:20251004
DTEND;VALUE=DATE:20251005
DTSTAMP:20260423T233505
CREATED:20250702T150103Z
LAST-MODIFIED:20250702T150250Z
UID:1510-1759536000-1759622399@www.a-r-a.org
SUMMARY:AARA 4-Corners Golf Outing
DESCRIPTION:Get Ready to Tee Off at the 2025 AARA Golf Outing! \nThe Arizona Automotive Recyclers Association is thrilled to invite you to our newly enhanced 2025 Golf Outing—a day dedicated to connection\, camaraderie and a little friendly competition on the green! \nWe’re returning to the stunning Whirlwind Golf Club in Chandler\, with accommodations available at the luxurious Gila River Resorts & Casino for those planning to stay overnight. \nThis year\, we’re keeping it focused and fun—with all the action happening on Saturday\, October 4th. No distractions\, just great golf\, great company and great opportunities. \nMark your calendar and don’t miss out—your next big connection could be one swing away! \n\n\n\n\nQUESTIONS? Contact Kim Glasscock\, kim@ara4u.org or call 615.476.4501 \nAGENDA\n  \n7am                 Grab & Go Breakfast @ Golf Course\n7:20am           Golfers at Carts for Announcements\n7:30am           Shotgun Start for Tournament\n1pm – 3pm     Luncheon with Prizes and Awards at Golf Course\n\n\n\n\n\n\n\n\nHOTEL ACCOMMODATIONS\n\n\n\n\n\n\n\n\nGila River Resorts & Casinos\n\n\n\n\n\n\n\n5040 Wild Horse Pass Blvd.\nChandler\, AZ  85226\nPhone: (520) 796-4900\n\n\n\n\nHotel Rooms: $219/night\nWaived Resort Fee\nCLICK HERE to secure your hotel reservations\n\n\n\n\n\n\n\n\n\n\n\n\n\n\nOr you may call the reservations department at 520-796-4900 and mention “AZ Auto Recyclers Association” to receive the group room rate.  You will be asked to provide a credit card number to secure your reservation. \nSecure Reservations no later than Sept. 12\, 2025 to receive group rates.
URL:https://www.a-r-a.org/event/aara-4-corners-golf-outing/
LOCATION:Whirlwind Golf Club\, 5692 W North Loop Rd.\, Chandler\, AZ\, 85226\, United States
END:VEVENT
BEGIN:VEVENT
DTSTART;VALUE=DATE:20250926
DTEND;VALUE=DATE:20250928
DTSTAMP:20260423T233505
CREATED:20250701T182337Z
LAST-MODIFIED:20250701T182337Z
UID:1487-1758844800-1759017599@www.a-r-a.org
SUMMARY:ATRI Convention and Trade Show
DESCRIPTION:SAVE THE DATE!!!\nATRI Convention and Trade Show\nSeptember 26/27 at the State House Inn\, Springfield\, IL\nHear from Leaders in the Industry!\n\nFriday:\nJunior Catalano\, Bionic Auto Parts – AI and Automation within our industry and how it affects/helps our business.\nKenny Svec\, Bionic Auto Parts – Right People in the Right Seat.\nKelly Roepke\, Y-Yard Auto & Truck\, Inc. – Working on your Business\, not in your Business.  \nSaturday:\nMike Kunkle and Jer Banta from Profit Team Sales School – Sales Training.\nKenny Svec\, Bionic Auto Parts – Working and Managing Remote Employee’s. \nHighlights Include: The Rt 66 Mother Road Show!\nCome Check out all the Cool Cars!\n \nSaturday Give Away at Lunch. Must Be Present to Win!!!
URL:https://www.a-r-a.org/event/atri-convention-and-trade-show/
LOCATION:State House Inn\, Springfield IL\, 101 E. Adams St.\, Springfield\, IL\, 62701\, United States
ORGANIZER;CN="Auto & Truck Recyclers of Illinois":MAILTO:illautorecyclers@aol.com
END:VEVENT
BEGIN:VEVENT
DTSTART;TZID=America/New_York:20250918T080000
DTEND;TZID=America/New_York:20250920T153000
DTSTAMP:20260423T233505
CREATED:20250701T173657Z
LAST-MODIFIED:20250701T173657Z
UID:1437-1758182400-1758382200@www.a-r-a.org
SUMMARY:AUTO RECYCLERS NORTHEAST CONVENTION & TRADESHOW
DESCRIPTION:Unlock the Future of Auto Recycling!\nReady to take your business to the next level? Join us at the must-attend event for auto recyclers from the Northeast & Canada! Gain exclusive access to top industry experts\, groundbreaking insights\, and cutting-edge technologies that will transform your operations. From a high-impact speaker lineup to an Expo packed with the latest innovations\, this is your chance to stay ahead of the competition\, maximize profits\, and discover new opportunities for growth.\nDon’t wait – secure your spot now and set your business up for success!\n\n\n\n\nHOTEL ACCOMMODATIONS\n\n\n\n\n\n\n\nTo receive our group rate\, secure accommodations before the cut-off date – August 21\, 2025. \n\n\n\n\n\n\n\n\nHilton Albany\n40 Lodge Street\nAlbany\, NY 12207\n(518) 462-6611 \n\n\n\n\nHotel Rooms: $159/night\nUse the link or call 866.691.1183 and reference 1ARNE \nHotel Reservation Link\n\n\n\n\n\n\n\n\n\n\n\nShould you need to cancel reservations\, do so 72 hours in advance to avoid penalty. \nGroup rates are available 2 days pre/post conference dates.\nSELF-PARKING:  $10 per car per day
URL:https://www.a-r-a.org/event/auto-recyclers-northeast-convention-tradeshow/
LOCATION:Hilton Albany\, NY\, 40 Lodge St.\, Albany\, NY\, 12207\, United States
END:VEVENT
BEGIN:VEVENT
DTSTART;TZID=America/New_York:20250917T090000
DTEND;TZID=America/New_York:20250918T160000
DTSTAMP:20260423T233505
CREATED:20250701T160751Z
LAST-MODIFIED:20250701T160751Z
UID:1426-1758099600-1758211200@www.a-r-a.org
SUMMARY:Complete Auto Recycling Show and Metals Recycling Event
DESCRIPTION:Complete Auto Recycling Show and Metals Recycling Event\n\n\n\n\n\nFuel your pipeline with business opportunities found nowhere else\nWe are thrilled to announce that the Complete Auto Recycling Show and Metals Recycling Event is relocating to run alongside the Environmental Services and Solutions Expo (ESS) on the 17-18 September at the NEC Birmingham in 2025. \nFor years\, CARS & MRE has been Europe’s leading event for the vehicle recycling\, dismantling\, and metals recycling sectors. By joining ESS Expo\, we’re taking this premier event to new heights\, offering unparalleled opportunities for our exhibitors and visitors. \nThis move combines the strengths of two successful events. CARS & MRE has consistently attracted 1\,500 professionals\, featuring 50+ speakers and 90+ exhibitors from across Europe. Meanwhile\, ESS Expo has been developing the UK’s best environmental stage\, seeing 12\,000 visitors and 6\,000 companies from 58 countries in 2024. \nBy joining forces\, we’re creating a powerhouse event that leverages the best of both worlds\, offering an unparalleled platform for the auto recycling\, metals recycling\, and environmental services sectors. \nIt’s set to be an unmissable event for anyone working with or selling into the sector in and across Europe. \n \n\nRegister Free To Attend
URL:https://www.a-r-a.org/event/complete-auto-recycling-show-and-metals-recycling-event/
LOCATION:National Exhibition Centre\, Pendigo Way\, Marston Green\, Birmingham\, B40 1NT\, United Kingdom
ORGANIZER;CN="ROAR B2B":MAILTO:info@roarb2b.com
END:VEVENT
BEGIN:VEVENT
DTSTART;TZID=America/New_York:20250916T090000
DTEND;TZID=America/New_York:20250917T153000
DTSTAMP:20260423T233505
CREATED:20250630T190324Z
LAST-MODIFIED:20250630T190404Z
UID:1415-1758013200-1758123000@www.a-r-a.org
SUMMARY:Scrap Expo A Live Demonstration Event
DESCRIPTION:Scrap Expo is a unique event where the metals recycling industry comes to life! This hands-on\, high-energy event is designed for scrap metal dealers and processors\, auto dismantlers and others handling ferrous and nonferrous scrap. \nExperience the Action:\n\nThe interactive outdoor exhibit area showcases the power of scrap processing and material handling equipment.\nThe indoor exhibit area features an array of cutting-edge equipment and services tailored to the industry.\nLive demos and insightful education sessions allow you to grow your industry expertise.\n\nDon’t miss your chance to be part of Scrap Expo\, where the industry comes together to innovate\, connect and advance metals recycling!
URL:https://www.a-r-a.org/event/scrap-expo-a-live-demonstration-event/
LOCATION:Kentucky Exposition Center\, 937 Phillips Ln.\, Louisville\, KY\, 40209\, United States
END:VEVENT
BEGIN:VEVENT
DTSTART;TZID=America/New_York:20250904T130000
DTEND;TZID=America/New_York:20250906T220000
DTSTAMP:20260423T233505
CREATED:20250627T185320Z
LAST-MODIFIED:20250627T185320Z
UID:1407-1756990800-1757196000@www.a-r-a.org
SUMMARY:2025 TARA CONVENTION & FOUR STATE FUSION TRADE SHOW
DESCRIPTION:
URL:https://www.a-r-a.org/event/2025-tara-convention-four-state-fusion-trade-show/
LOCATION:Plaza San Antonio Hotel & Spa\, Autograph Collection\, 555 S Alamo St.\, San Antonio\, TX\, 78205\, United States
ORGANIZER;CN="TEXAS AUTOMOTIVE RECYCLERS ASSOCIATION":MAILTO:txautorecyclers@gmail.com
END:VEVENT
BEGIN:VEVENT
DTSTART;TZID=America/New_York:20250815T140000
DTEND;TZID=America/New_York:20250816T203000
DTSTAMP:20260423T233505
CREATED:20250627T183015Z
LAST-MODIFIED:20250815T191753Z
UID:1328-1755266400-1755376200@www.a-r-a.org
SUMMARY:Midwest Automotive Recyclers Summit & Expo
DESCRIPTION:SPONSORED BY:\n\n\n\n\nMissouri Auto & Truck Recyclers\n\n\n\n\n\n\n\n\nGet Ready for the Midwest Auto Recyclers Summit & Expo 2025! \nDon’t miss out on the Midwest Automotive Recyclers Summit & Expo 2025— one of the premier events of the year for professional automotive recyclers! This is your chance to hear from top industry experts as they cover hot topics that will empower you to stay ahead in today’s fast-evolving market.  \nExplore the Expo to connect with leading vendors showcasing cutting-edge products and innovative solutions. Whether you’re discovering new tech or uncovering fresh ways to optimize your existing tools\, there’s something here to supercharge your business.  \nBe there. Be inspired. Be prepared for the future of auto recycling!  \n\n\n\n\nQUESTIONS? Contact Kim Glasscock\, kim@ara4u.org or call 615.476.4501 \n\n\n\n\nHOTEL ACCOMMODATIONS\n\n\n\nReserve Your Room Before Our Group Rate Ends on July 24th\, 2025!\n\n\n\n\n\n\n\nHilton St. Louis Frontenac\n1335 S Lindbergh Blvd\nSt. Louis\, MO 63131\n(314) 993-1100 \n\n\n\n\nHotel Rooms: $169/night \nHotel Reservation Link\n\n\n\n\n\n\n\n\n\n\n\nTo modify your reservations\, please call Hilton St. Louis Frontenac at 1-314-993-1100. \nPARKING: – Complimentary airport transportation or if you’re driving\, complimentary self-parking.
URL:https://www.a-r-a.org/event/midwest-automotive-recyclers-summit-expo/
LOCATION:Hilton St. Louis Frontenac\, 1335 South Lindbergh Blvd.\, Saint Louis\, MO\, 63131\, United States
END:VEVENT
BEGIN:VEVENT
DTSTART;TZID=America/New_York:20250719T090000
DTEND;TZID=America/New_York:20250719T170000
DTSTAMP:20260423T233505
CREATED:20250529T063655Z
LAST-MODIFIED:20250627T182135Z
UID:881-1752915600-1752944400@www.a-r-a.org
SUMMARY:VARA Training & Certification Opportunities
DESCRIPTION:BE TRAINED AND CERTIFIED in Hybrid & High-Voltage Vehicle Dismantling!\nVARA is excited to offer our members a chance to send dismantlers to exclusive hybrid and high-voltage vehicle training on July 19\, 2025\, from 9 AM to 5 PM led by Salvage Wire expert Andy Latham. \nFor years\, Electric Vehicle Technicians have had access to certified training across various competency levels. However\, until now\, no equivalent training has been available for Vehicle Dismantling Technicians. \nWhile vehicle repairers are trained to diagnose faults in Electric and Hybrid vehicles\, safely disable high-voltage systems\, repair or replace components\, and restore functionality\, dismantlers require a different skill set. \nThis specialized training equips vehicle dismantlers with the knowledge to assess Electric and Hybrid vehicles\, store them safely\, decommission high-voltage systems\, dismantle components\, and properly manage parts for reuse\, repurposing\, or recycling. \nThe training is WAMITAB accredited\, and participants will receive a certificate upon passing the final test. Pre-registration is required. \n\n\n\n\nWE’RE ALSO OFFERING AIRBAG HANDLING & SHIPPING CERTIFICATION!\nIf the hybrid and high-voltage certification doesn’t apply to you\, we’re also offering Airbag Handling & Shipping Certification from 1:30 – 3:30pm led by Sara Hamidovic of VET Environmental. \nDiscover how to safely ship airbags in accordance with all relevant rules and regulations\, ensuring the safety of your team. Upon successful completion of this course\, each participant will receive a training certificate.” \nBe prepared for the future of auto recycling – and your SUCCESS!  \n\n\n\n\nQUESTIONS? Contact Kim Glasscock\, kim@ara4u.org or call 615.476.4501 \n\n\nClick Here for Registration Information\n\n\n\n\nHOTEL ACCOMMODATIONS\n\n\n\nReserve Your Room Before Our Group Rate Ends on June 18\, 2025!\n\n\n\n\n\n\n\nHome2 Suites Lynchburg\n542 Simons Run\nLynchburg\, VA  24502\n(434) 264-7700 \n\n\n\n\nHotel Rooms: $184/night \nHotel Reservation Link\n\n\n\n\n\n\n\n\n\n\n\nAfter the cut-off date\, rooms will be subject to room and rate availability. For changes or cancellation\, call the hotel direct.  Cancellations must be received no later than 48 hours prior to arrival.  Cancellations received within 48 hours will be billed one night’s room and tax.   \n\n\n\n\n 
URL:https://www.a-r-a.org/event/vara-training-certification-opportunities/
LOCATION:Cunningham Brothers Auto Parts\, 10980 Wards Rd\, Rustburg\, VA\, 24588\, United States
ORGANIZER;CN="Virginia Automotive Recyclers Association":MAILTO:kim@ara4u.org sandy@ara4u.org
END:VEVENT
BEGIN:VEVENT
DTSTART;TZID=America/New_York:20250717T073000
DTEND;TZID=America/New_York:20250719T223000
DTSTAMP:20260423T233505
CREATED:20250529T063519Z
LAST-MODIFIED:20250722T202934Z
UID:878-1752737400-1752964200@www.a-r-a.org
SUMMARY:2025 FADRA 50th Anniversary Convention & Trade Show
DESCRIPTION:https://fadra.memberclicks.net/fadra-convention-and-trade-show-2025 \nHalf a century of Florida auto recycling! How time has flown; how business has changed. FADRA 2025 brings together the historic and the new\, veteran owners with new faces establishing themselves in our dynamic industry. How can you get better at managing your auto recycling business? Where can you find lots of other people who know your struggles and have good ideas to share? The FADRA Convention! Don’t miss a golden opportunity to learn best practices and expand your business network. \n \nSheraton Sand Key Resort \nReservation Dates: July 17-20\, 2025 \nFADRA Room Rate: $191 per night \nReservation Cut-off Date: June 17\, 2025 \nPhone: 727-595-1611 \n \nYou will find the information for your online reservation link below. If you have questions or need help with the link\, please do not hesitate to ask. We appreciate your business and look forward to a successful event. \nBook your group rate for FADRA 2025 Annual Conference \nIf you wish to book a reservation outside of the July 17-20 dates or if you have any questions regarding your reservation\, please contact the hotel directly at 727-595-1611 and ask for In-House Reservations. Be sure to mention you are with FADRA. \n\n\n\n\n\n\n\n\n\n\nWELCOME EVENT: STARLIGHT DINNER YACHT CRUISE \nCruise in comfort as attendees get together for an evening of great food\, drink\, and views of beautiful Tampa Bay on a luxury yacht\, the StarLite. A family-owned company has been talking guests out on the water in style since 1986. Their dining service includes a full\, restaurant-style menu featuring continental cuisine prepared fresh on board. Entertainment is a mix of live selections and a wide variety of recorded songs to satisfy any musical request. Full bar and your own server ensure your enjoyment. \n \n \n\n\n\n\n\n\n\n\n\nDON’T STOP BELIEVIN’ 50th ANNIVERSARY CELEBRATION \nNostalgia is in the air as we celebrate 50 years of our association. The closing party will conclude with a concert by Majesty of Rock. They have Performed together for more than a decade\, and the group is one of the most sought-after Journey and Styx tribute bands in the country. Not only does the lead singer\, John D’Agostino\, capture Steve Perry’s iconic vocals\, but he also nails the vocal essence of Dennis DeYoung and Tommy Shaw from Styx. Majesty has perfected the mix of hard rock guitar\, acoustic guitar\, synthesizers and acoustic piano. With precise harmonies\, driving music\, and powerful stage presence\, you will be enthralled by their performance. \n \n\n  \n 
URL:https://www.a-r-a.org/event/fadra-convention-and-trade-show/
LOCATION:Clearwater Beach Sheraton Resort on Sand Key\, FL\, 1160 Gulf Blvd.\, Clearwater Beach\, FL\, 33767\, United States
ORGANIZER;CN="FADRA - Florida Auto Dismantlers & Recyclers Association":MAILTO:kim@odellgroupmgmt.com bobby@fadra.org
END:VEVENT
BEGIN:VEVENT
DTSTART;TZID=America/New_York:20250620T170000
DTEND;TZID=America/New_York:20250621T210000
DTSTAMP:20260423T233505
CREATED:20250529T063339Z
LAST-MODIFIED:20250529T063339Z
UID:876-1750438800-1750539600@www.a-r-a.org
SUMMARY:2025 ARAAC Meeting - Automotive Recyclers Association of Canada
DESCRIPTION:2025 ARAAC Meeting\nBest Western Glengarry\n150 Willow Street\, Truro\, NS B2N 4Z6\n(902) 893-4311\nJune 20-21\, 2025 \nDraft Agenda\nJune 20 \n5:00 pm Board Meeting \nJune 21 \n8:30 am Tabletop Trade Show Open \n9:00 am. Annual General Meeting \n10:00 am. Morning Presentations and Panels \nnoon Lunch \n1:00 pm. Afternoon Presentations and Panels \n4:00 pm. Yard tours and dinner at Maritime Auto Parts \n  \nRegistration information for both the Meeting\, Trade Show and Sponsorship to follow. \nTo book your room at the Glengarry ($169 includes complimentary breakfast and parking) – https://www.bestwestern.com/en_US/book/hotel-rooms.65003.html?groupId=G31DM3Z2 or (902) 893-4311. \n  \n  \nSpeakers\, topics\, panels and training to follow. \n  \nFollow for regular updates- https://araac.ca/events/2025-araac-meeting/
URL:https://www.a-r-a.org/event/2025-araac-meeting-automotive-recyclers-association-of-canada/
LOCATION:NV
END:VEVENT
BEGIN:VEVENT
DTSTART;TZID=America/New_York:20250606T080000
DTEND;TZID=America/New_York:20250608T080000
DTSTAMP:20260423T233505
CREATED:20250529T063119Z
LAST-MODIFIED:20250529T063204Z
UID:872-1749196800-1749369600@www.a-r-a.org
SUMMARY:PARTS Summit & Expo
DESCRIPTION:PARTS invites you to join fellow recyclers from Pennsylvania and surrounding states for PARTners for the Future of Auto Recycling Summit & Expo. There will be a strong lineup of speakers touching on issues relevant to today’s auto recycler. The Expo will include top vendors sharing new products\, services and technology and to help you uncover new uses for existing products. It’s a great time to PARTner with fellow recyclers and industry vendors so make plans to attend.
URL:https://www.a-r-a.org/event/parts-summit-expo/
LOCATION:Seven Springs Mountain Resort\, PA\, United States
END:VEVENT
END:VCALENDAR