BEGIN:VCALENDAR
VERSION:2.0
PRODID:-//Automotive Recyclers Association - ECPv6.15.20//NONSGML v1.0//EN
CALSCALE:GREGORIAN
METHOD:PUBLISH
X-WR-CALNAME:Automotive Recyclers Association
X-ORIGINAL-URL:https://www.a-r-a.org
X-WR-CALDESC:Events for Automotive Recyclers Association
REFRESH-INTERVAL;VALUE=DURATION:PT1H
X-Robots-Tag:noindex
X-PUBLISHED-TTL:PT1H
BEGIN:VTIMEZONE
TZID:America/New_York
BEGIN:DAYLIGHT
TZOFFSETFROM:-0500
TZOFFSETTO:-0400
TZNAME:EDT
DTSTART:20250309T070000
END:DAYLIGHT
BEGIN:STANDARD
TZOFFSETFROM:-0400
TZOFFSETTO:-0500
TZNAME:EST
DTSTART:20251102T060000
END:STANDARD
BEGIN:DAYLIGHT
TZOFFSETFROM:-0500
TZOFFSETTO:-0400
TZNAME:EDT
DTSTART:20260308T070000
END:DAYLIGHT
BEGIN:STANDARD
TZOFFSETFROM:-0400
TZOFFSETTO:-0500
TZNAME:EST
DTSTART:20261101T060000
END:STANDARD
BEGIN:DAYLIGHT
TZOFFSETFROM:-0500
TZOFFSETTO:-0400
TZNAME:EDT
DTSTART:20270314T070000
END:DAYLIGHT
BEGIN:STANDARD
TZOFFSETFROM:-0400
TZOFFSETTO:-0500
TZNAME:EST
DTSTART:20271107T060000
END:STANDARD
END:VTIMEZONE
BEGIN:VEVENT
DTSTART;TZID=America/New_York:20260423T083000
DTEND;TZID=America/New_York:20260424T130000
DTSTAMP:20260423T153415
CREATED:20251118T192845Z
LAST-MODIFIED:20251118T192845Z
UID:2179-1776933000-1777035600@www.a-r-a.org
SUMMARY:Southeast Collision Conference
DESCRIPTION:Conference Schedule\n\n\n\n\nInterested in presenting an education session for Collision P.R.E.P.? Submit your idea here \nWednesday 4/22 \n\nExhibitor Check-in and Setup – 1:00p – 6:00p\n\nThursday 4/23 \n\nExhibitor Check-in and Setup – 8:30a – 1:00p\nTradeshow 1:00p – 8:00p – Registration Opens 7:00a\nEducation 8:30a – 3:00p\nReception 6:00p\n\nFriday 4/24 \n\nTradeshow 9am – 1pm – Registration Opens 7:00a\nEducation 8:30a – 11:00a\n\n\nAlso meeting in conjunction with SCC: \n4/22 | Collision Industry Conference: the national conference is a forum made up of all industry segments for the expressed purpose of discussing and exploring the issues that occur among them. There will be sessions acrossed both days from informative and provoking leaders\, including an opportunity to join in the dialogue during open microphone! \n4/21\, 2p – 5p | Society of Collision Repair Specialists: come to the open Board of Directors meeting\, and hear from our national association of collision repairers with a mission to educate\, inform and represent the collision repair professional in all aspects of the industry. *CCA and WMABA are affiliate associations of SCRS! \n\n\n\n\n\n\n\n\n\nget Attendee Tickets Here\n\n\n\n\nCollision P.R.E.P. – Professional Repairer Education Program\n\n\n\n\nThere will be classes throughout the day Thursday and Friday\, both classroom and show stage\, for you to select and choose based on your interests and needs.  Every person in the modern repair facility will be engaged\, informed and challenged by a slate of Nationally-known and recognized speakers. \nTo submit a presentation for consideration in the 2026 line-up use this link: https://forms.gle/LRRgh9XvJBHLTimVA \nFull schedule\, class descriptions and registration will open by January 15 \n\n\n\n\n\n\n\n\n\n\nExhibitor + Sponsorship Options\n\n\n\n\n\n\n\n\n\n\n\n\n\n\n\n\n\nBecome a sponsor\n\n\nSponsor Packet\n\n\n**Booth Only options are available in the sign-up.\n\n\n\n\nvendor resources\n\n\n\n\n\n\n\n\n2025 Event Sponsors\n\n\n\n\nPLATINUM SPONSORS\n\n\n\n\n\n\n\n\n\n\n\n\n\n\n\n\n\n\n\n\n\n\n\n\n\n\n\n\n\n\nGOLD SPONSORS\n\n\n\n\n\n\n\n\n\n\n\n\n\n\n\n\n\n\n\n\n\n\n\n\n\n\n\n\n\n\n\n\n\n\n\n\n\nSILVER SPONSORS\nAlloy Wheel Repair Specialists\nCar-Rep Automotive Products\nIntrepid Direct\nMilwaukee Tool\nOEConnection \nREVV \nSpanesi\nSymach\n\n\n\n\nBecome a sponsor\n\n\n\n\n\n\n\n\nTravel Information\n\n\n\n\n\n\n\n\n\n\n\n\n\nConference Location\n\n\n\n\nAll events are located at the Embassy Suites by Hilton Charlotte Concord Golf Resort & Spa\n5400 John Q. Hammons Drive NW\, Concord\, North Carolina\, 28027 \n\n\n\n\n\n\n\n\n\n\n\n\n\n\nHotel Information:\n\n\n*Preferred Hotel*\nEmbassy Suites Charlotte Concord \n5400 John Q. Hammons Drive NW\, Concord\, North Carolina\, 28027 \n$194 per night \n\n\nBooking Link: coming soon \n\n\n\nOther hotels close by: \n\nResidence Inn Charlotte Concord\nCourtyard Charlotte Concord\nHomewood Suites by Hilton\n\n*There are other hotels in the near vicinity as well. \n  \n\n\n\n\n\n\n\nCharlotte Airport (CTL)\nCharlotte Douglas International Airport\n5501 Josh Birmingham Parkway\, Charlotte\, NC 28208 \nFlights\, Parking\, To & From\, Airport Info \n\n\n\n\n\n\n\nUber and Lyft available to the event.
URL:https://www.a-r-a.org/event/southeast-collision-conference/
LOCATION:Embassy Suites by Hilton Charlotte Concord Golf Resort & Spa\, 5400 John Q. Hammons Dr NW\, Concord\, NC\, 28027\, United States
ORGANIZER;CN="CAROLINA%E2%80%99S COLLISION ASSOCIATION":MAILTO:info@carolinascollisionassociation.com
END:VEVENT
END:VCALENDAR