BEGIN:VCALENDAR
VERSION:2.0
PRODID:-//Automotive Recyclers Association - ECPv6.15.20//NONSGML v1.0//EN
CALSCALE:GREGORIAN
METHOD:PUBLISH
X-WR-CALNAME:Automotive Recyclers Association
X-ORIGINAL-URL:https://www.a-r-a.org
X-WR-CALDESC:Events for Automotive Recyclers Association
REFRESH-INTERVAL;VALUE=DURATION:PT1H
X-Robots-Tag:noindex
X-PUBLISHED-TTL:PT1H
BEGIN:VTIMEZONE
TZID:America/New_York
BEGIN:DAYLIGHT
TZOFFSETFROM:-0500
TZOFFSETTO:-0400
TZNAME:EDT
DTSTART:20250309T070000
END:DAYLIGHT
BEGIN:STANDARD
TZOFFSETFROM:-0400
TZOFFSETTO:-0500
TZNAME:EST
DTSTART:20251102T060000
END:STANDARD
BEGIN:DAYLIGHT
TZOFFSETFROM:-0500
TZOFFSETTO:-0400
TZNAME:EDT
DTSTART:20260308T070000
END:DAYLIGHT
BEGIN:STANDARD
TZOFFSETFROM:-0400
TZOFFSETTO:-0500
TZNAME:EST
DTSTART:20261101T060000
END:STANDARD
BEGIN:DAYLIGHT
TZOFFSETFROM:-0500
TZOFFSETTO:-0400
TZNAME:EDT
DTSTART:20270314T070000
END:DAYLIGHT
BEGIN:STANDARD
TZOFFSETFROM:-0400
TZOFFSETTO:-0500
TZNAME:EST
DTSTART:20271107T060000
END:STANDARD
END:VTIMEZONE
BEGIN:VEVENT
DTSTART;TZID=America/New_York:20260422T080000
DTEND;TZID=America/New_York:20260422T200000
DTSTAMP:20260423T135346
CREATED:20251105T194240Z
LAST-MODIFIED:20251105T194240Z
UID:2095-1776844800-1776888000@www.a-r-a.org
SUMMARY:Collision Industry Conference I CIC
DESCRIPTION:Embassy Suites by Hilton Charlotte Concord Golf Resort & Spa\n[Charlotte] Concord\, NC \nIn conjunction with Southeast Collision Conference \n\n\n\n\nPre-Registration Closes April 15 \nMeeting Times: \n\nRegistration: 7:00am\nMeeting: 8:00am – 5:00pm\nReception: 6:00pm\n\n∇ See below for Hotel Information and Related meetings. \n\n\n\n\n\n\n\n\n\n\n\n\n\n\n\n\n\nREGISTRATION LINKS:\n\n\n\n\nREGISTRATION WILL GO LIVE SOON! \n\n\n\n\n\n\n\n\nRELATED MEETINGS\nComing Soon! \nRELATED MEETINGS DISCLAIMER – the Collision Industry Conference has no control over the above related meetings\, their content\, conduct or protocols. Should you have any concern over content or protocols\, please contact the organization directly. \n\n\n\n\n\n\n\n\nHotel Reservations:\nComing Soon!
URL:https://www.a-r-a.org/event/collision-industry-conference-i-cic/
LOCATION:Embassy Suites by Hilton Charlotte Concord Golf Resort & Spa\, 5400 John Q. Hammons Dr NW\, Concord\, NC\, 28027\, United States
ORGANIZER;CN="Collision Industry Conference (CIC)":MAILTO:info@ciclink.com
END:VEVENT
END:VCALENDAR